BEGIN:VCALENDAR
VERSION:2.0
PRODID:-//Belford Brewing Company - ECPv5.8.1//NONSGML v1.0//EN
CALSCALE:GREGORIAN
METHOD:PUBLISH
X-WR-CALNAME:Belford Brewing Company
X-ORIGINAL-URL:https://www.belfordbrewing.com
X-WR-CALDESC:Events for Belford Brewing Company
BEGIN:VTIMEZONE
TZID:UTC
BEGIN:STANDARD
TZOFFSETFROM:+0000
TZOFFSETTO:+0000
TZNAME:UTC
DTSTART:20250101T000000
END:STANDARD
END:VTIMEZONE
BEGIN:VEVENT
DTSTART;TZID=UTC:20250123T183000
DTEND;TZID=UTC:20250123T200000
DTSTAMP:20260420T160946
CREATED:20250122T140314Z
LAST-MODIFIED:20250122T140314Z
UID:7573-1737657000-1737662400@www.belfordbrewing.com
SUMMARY:Belford Brewing Bingo Night - Thursday January 23rd\, 2025 - 6:30
DESCRIPTION:Come out to Belford Brewing and celebrate the 23rd of January at 6:30 PM with “Belford Brewing Bingo Night”.  You asked for it and now you got it\, Bingo!!  Should be fun!  Maybe you could win some Belford Bucks!
URL:https://www.belfordbrewing.com/event/belford-brewing-bingo-night-thursday-january-23rd-2025-630/
LOCATION:Belford Brewing Company\, 84 Leonardville Road\, Belford\, NJ\, 07718\, United States
ATTACH;FMTTYPE=image/jpeg:https://www.belfordbrewing.com/wp-content/uploads/2025/01/Belford-Brewing-Bingo-Night-January-23rd-2025.jpg
END:VEVENT
END:VCALENDAR