BEGIN:VCALENDAR
VERSION:2.0
PRODID:-//Belford Brewing Company - ECPv5.8.1//NONSGML v1.0//EN
CALSCALE:GREGORIAN
METHOD:PUBLISH
X-WR-CALNAME:Belford Brewing Company
X-ORIGINAL-URL:https://www.belfordbrewing.com
X-WR-CALDESC:Events for Belford Brewing Company
BEGIN:VTIMEZONE
TZID:UTC
BEGIN:STANDARD
TZOFFSETFROM:+0000
TZOFFSETTO:+0000
TZNAME:UTC
DTSTART:20240101T000000
END:STANDARD
END:VTIMEZONE
BEGIN:VEVENT
DTSTART;TZID=UTC:20240314T183000
DTEND;TZID=UTC:20240314T200000
DTSTAMP:20260424T094225
CREATED:20240308T151336Z
LAST-MODIFIED:20240308T151336Z
UID:7264-1710441000-1710446400@www.belfordbrewing.com
SUMMARY:Belford Brewing Bingo Night - Thursday March 14\, 2024
DESCRIPTION:Come out Thursday March 14th at 6:30 PM for “Belford Brewing Bingo Night”.   You asked for it and now you got it\, Bingo!!  This is the first of hopefully many Bingo Nights\, and it’s free!  Should be fun.  Maybe you could win some Belford Bucks!
URL:https://www.belfordbrewing.com/event/belford-brewing-bingo-night-thursday-march-14-2024/
ATTACH;FMTTYPE=image/jpeg:https://www.belfordbrewing.com/wp-content/uploads/2024/03/Bingo-NIght-March-14th-2024.jpg
END:VEVENT
END:VCALENDAR