BEGIN:VCALENDAR
VERSION:2.0
PRODID:-//Belford Brewing Company - ECPv5.8.1//NONSGML v1.0//EN
CALSCALE:GREGORIAN
METHOD:PUBLISH
X-WR-CALNAME:Belford Brewing Company
X-ORIGINAL-URL:https://www.belfordbrewing.com
X-WR-CALDESC:Events for Belford Brewing Company
BEGIN:VTIMEZONE
TZID:UTC
BEGIN:STANDARD
TZOFFSETFROM:+0000
TZOFFSETTO:+0000
TZNAME:UTC
DTSTART:20240101T000000
END:STANDARD
END:VTIMEZONE
BEGIN:VEVENT
DTSTART;TZID=UTC:20240905T183000
DTEND;TZID=UTC:20240905T200000
DTSTAMP:20260419T161837
CREATED:20240905T151959Z
LAST-MODIFIED:20240905T151959Z
UID:7433-1725561000-1725566400@www.belfordbrewing.com
SUMMARY:Belford Brewing Bingo Night - Thursday September 5th\, 2024
DESCRIPTION:Come out Thursday September 5th at 6:30 PM for “Belford Brewing Bingo Night”.   You asked for it and now you got it\, Bingo!!  This is the first of hopefully many Bingo Nights\, and it’s free!  Should be fun.  Maybe you could win some Belford Bucks!
URL:https://www.belfordbrewing.com/event/belford-brewing-bingo-night-thursday-september-5th-2024/
ATTACH;FMTTYPE=image/jpeg:https://www.belfordbrewing.com/wp-content/uploads/2024/09/Belford-Brewing-Bingo-Night-September-5th-2024.jpg
END:VEVENT
END:VCALENDAR