BEGIN:VCALENDAR
VERSION:2.0
PRODID:-//Belford Brewing Company - ECPv5.8.1//NONSGML v1.0//EN
CALSCALE:GREGORIAN
METHOD:PUBLISH
X-WR-CALNAME:Belford Brewing Company
X-ORIGINAL-URL:https://www.belfordbrewing.com
X-WR-CALDESC:Events for Belford Brewing Company
BEGIN:VTIMEZONE
TZID:UTC
BEGIN:STANDARD
TZOFFSETFROM:+0000
TZOFFSETTO:+0000
TZNAME:UTC
DTSTART:20250101T000000
END:STANDARD
END:VTIMEZONE
BEGIN:VEVENT
DTSTART;TZID=UTC:20250612T183000
DTEND;TZID=UTC:20250612T210000
DTSTAMP:20260424T094328
CREATED:20250520T125817Z
LAST-MODIFIED:20250609T145945Z
UID:7686-1749753000-1749762000@www.belfordbrewing.com
SUMMARY:Belford Brewing Trivia Night - The "General Knowledge" Edition - Thursday June 12th\, 2025 - 6:30
DESCRIPTION:Come out June 12th at 6:30 PM for “Belford Brewing Trivia Night”. The theme for the night is “General Knowledge”.  There will 5 rounds\, each round you need to write your answer out.  Each team will be given an opportunity to select one of the categories they want all the players to answer questions on during the course of the evening.   Should be fun!   Maybe you could win some Belford Bucks!
URL:https://www.belfordbrewing.com/event/belford-brewing-trivia-night-the-general-knowledge-edition-thursday-may-22th-2025-630/
ATTACH;FMTTYPE=image/jpeg:https://www.belfordbrewing.com/wp-content/uploads/2025/06/Trivia-06120225-General-Knowledge-Flyer.jpg
END:VEVENT
END:VCALENDAR