BEGIN:VCALENDAR
VERSION:2.0
PRODID:-//Belford Brewing Company - ECPv5.8.1//NONSGML v1.0//EN
CALSCALE:GREGORIAN
METHOD:PUBLISH
X-WR-CALNAME:Belford Brewing Company
X-ORIGINAL-URL:https://www.belfordbrewing.com
X-WR-CALDESC:Events for Belford Brewing Company
BEGIN:VTIMEZONE
TZID:UTC
BEGIN:STANDARD
TZOFFSETFROM:+0000
TZOFFSETTO:+0000
TZNAME:UTC
DTSTART:20250101T000000
END:STANDARD
END:VTIMEZONE
BEGIN:VEVENT
DTSTART;TZID=UTC:20250327T140000
DTEND;TZID=UTC:20250327T200000
DTSTAMP:20260424T160105
CREATED:20250324T205334Z
LAST-MODIFIED:20250324T205334Z
UID:7640-1743084000-1743105600@www.belfordbrewing.com
SUMMARY:Belford Brewing Opening Day Of Baseball - Thursday March 27th\, 2025 - 2PM
DESCRIPTION:Come out Thursday March 27th at 2:00 PM to welcome Open Day in Major League baseball.   Doors open and 2PM the game starting at 3PM as the New York Yankees take on the Milwaukee Brewers at Yankee Stadium.  There will be beer for purchase as always and some food to go along with it.  So come out and Root\, Root\, Root for the Home Team.  Cheers!
URL:https://www.belfordbrewing.com/event/belford-brewing-opening-day-of-baseball-thursday-march-27th-2025-2pm/
LOCATION:Belford Brewing Company\, 84 Leonardville Road\, Belford\, NJ\, 07718\, United States
ATTACH;FMTTYPE=image/jpeg:https://www.belfordbrewing.com/wp-content/uploads/2025/03/Baseball-Opening-Day-Belford-Brewing.jpg
END:VEVENT
BEGIN:VEVENT
DTSTART;TZID=UTC:20250612T183000
DTEND;TZID=UTC:20250612T210000
DTSTAMP:20260424T160105
CREATED:20250520T125817Z
LAST-MODIFIED:20250609T145945Z
UID:7686-1749753000-1749762000@www.belfordbrewing.com
SUMMARY:Belford Brewing Trivia Night - The "General Knowledge" Edition - Thursday June 12th\, 2025 - 6:30
DESCRIPTION:Come out June 12th at 6:30 PM for “Belford Brewing Trivia Night”. The theme for the night is “General Knowledge”.  There will 5 rounds\, each round you need to write your answer out.  Each team will be given an opportunity to select one of the categories they want all the players to answer questions on during the course of the evening.   Should be fun!   Maybe you could win some Belford Bucks!
URL:https://www.belfordbrewing.com/event/belford-brewing-trivia-night-the-general-knowledge-edition-thursday-may-22th-2025-630/
ATTACH;FMTTYPE=image/jpeg:https://www.belfordbrewing.com/wp-content/uploads/2025/06/Trivia-06120225-General-Knowledge-Flyer.jpg
END:VEVENT
BEGIN:VEVENT
DTSTART;TZID=UTC:20250620T180000
DTEND;TZID=UTC:20250620T210000
DTSTAMP:20260424T160105
CREATED:20250616T153248Z
LAST-MODIFIED:20250616T153248Z
UID:7704-1750442400-1750453200@www.belfordbrewing.com
SUMMARY:Open Mic And Beers At Belford Brewing June 20th\, 2025 6PM
DESCRIPTION:Come out Friday June 20th 6PM for “Belford Brewing Open Mic”.  If you would like to play or just sit back and listen\, this event is for you.  Signups start at 5:00PM and performers start at 6:00. Performances will be take place in the brewery.  Cheers!
URL:https://www.belfordbrewing.com/event/open-mic-and-beers-at-belford-brewing-june-20th-2025-6pm/
ATTACH;FMTTYPE=image/png:https://www.belfordbrewing.com/wp-content/uploads/2025/06/Open-Mic-Flyer-June-20-2025.png
END:VEVENT
BEGIN:VEVENT
DTSTART;TZID=UTC:20250626T183000
DTEND;TZID=UTC:20250626T210000
DTSTAMP:20260424T160105
CREATED:20250624T214925Z
LAST-MODIFIED:20250624T214925Z
UID:7713-1750962600-1750971600@www.belfordbrewing.com
SUMMARY:Belford Brewing Trivia Night - The "General Knowledge" Edition - Thursday June 26th\, 2025 - 6:30
DESCRIPTION:Come out June 26th at 6:30 PM for “Belford Brewing Trivia Night”. The theme for the night is “General Knowledge”.  There will 5 rounds\, each round you need to write your answer out.  Each team will be given an opportunity to select one of the categories they want all the players to answer questions on during the course of the evening.   Should be fun!   Maybe you could win some Belford Bucks!
URL:https://www.belfordbrewing.com/event/belford-brewing-trivia-night-the-general-knowledge-edition-thursday-june-26th-2025-630/
ATTACH;FMTTYPE=image/jpeg:https://www.belfordbrewing.com/wp-content/uploads/2025/06/Trivia-06262025-General-Knowledge-Flyer.jpg
END:VEVENT
BEGIN:VEVENT
DTSTART;TZID=UTC:20250710T183000
DTEND;TZID=UTC:20250710T210000
DTSTAMP:20260424T160105
CREATED:20250710T134826Z
LAST-MODIFIED:20250710T134826Z
UID:7724-1752172200-1752181200@www.belfordbrewing.com
SUMMARY:Belford Brewing Trivia Night - The "General Knowledge" Edition - Thursday July 10th\, 2025 - 6:30
DESCRIPTION:Come out July 10th at 6:30 PM for “Belford Brewing Trivia Night”. The theme for the night is “General Knowledge”.  There will 5 rounds\, each round you need to write your answer out.  Each team will be given an opportunity to select one of the categories they want all the players to answer questions on during the course of the evening.   Should be fun!   Maybe you could win some Belford Bucks!
URL:https://www.belfordbrewing.com/event/belford-brewing-trivia-night-the-general-knowledge-edition-thursday-july-10th-2025-630/
ATTACH;FMTTYPE=image/jpeg:https://www.belfordbrewing.com/wp-content/uploads/2025/07/Trivia-07102025-General-Knowledge-Flyer.jpg
END:VEVENT
BEGIN:VEVENT
DTSTART;TZID=UTC:20250718T180000
DTEND;TZID=UTC:20250718T210000
DTSTAMP:20260424T160105
CREATED:20250716T000753Z
LAST-MODIFIED:20250716T000753Z
UID:7730-1752861600-1752872400@www.belfordbrewing.com
SUMMARY:Open Mic And Beers At Belford Brewing July 18th\, 2025 6PM
DESCRIPTION:Come out Friday July 18th 6PM for “Belford Brewing Open Mic”.  If you would like to play or just sit back and listen\, this event is for you.  Signups start at 5:00PM and performers start at 6:00. Performances will be take place in the brewery.  Cheers!
URL:https://www.belfordbrewing.com/event/open-mic-and-beers-at-belford-brewing-july-18th-2025-6pm/
ATTACH;FMTTYPE=image/jpeg:https://www.belfordbrewing.com/wp-content/uploads/2025/07/Open-Mic-Flyer-07182025.jpeg
END:VEVENT
END:VCALENDAR