BEGIN:VCALENDAR
VERSION:2.0
PRODID:-//Belford Brewing Company - ECPv5.8.1//NONSGML v1.0//EN
CALSCALE:GREGORIAN
METHOD:PUBLISH
X-WR-CALNAME:Belford Brewing Company
X-ORIGINAL-URL:https://www.belfordbrewing.com
X-WR-CALDESC:Events for Belford Brewing Company
BEGIN:VTIMEZONE
TZID:UTC
BEGIN:STANDARD
TZOFFSETFROM:+0000
TZOFFSETTO:+0000
TZNAME:UTC
DTSTART:20220101T000000
END:STANDARD
END:VTIMEZONE
BEGIN:VEVENT
DTSTART;TZID=UTC:20240229T183000
DTEND;TZID=UTC:20240229T200000
DTSTAMP:20260424T161457
CREATED:20240223T123044Z
LAST-MODIFIED:20240223T123109Z
UID:7255-1709231400-1709236800@www.belfordbrewing.com
SUMMARY:Belford Brewing Bingo Night - Thursday February 29th\, 2024
DESCRIPTION:Come out Thursday February 29th at 6:30 PM for “Belford Brewing Bingo Night”.   You asked for it and now you got it\, Bingo!!  This is the first of hopefully many Bingo Nights\, and it’s free!  Should be fun.  Maybe you could win some Belford Bucks!
URL:https://www.belfordbrewing.com/event/belford-brewing-bingo-night-thursday-february-29th-2024/
ATTACH;FMTTYPE=image/jpeg:https://www.belfordbrewing.com/wp-content/uploads/2024/02/Bingo-Night-at-Belford-Brewing-Smaller.jpg
END:VEVENT
BEGIN:VEVENT
DTSTART;TZID=UTC:20240216T180000
DTEND;TZID=UTC:20240216T210000
DTSTAMP:20260424T161457
CREATED:20240209T201232Z
LAST-MODIFIED:20240209T201232Z
UID:7243-1708106400-1708117200@www.belfordbrewing.com
SUMMARY:Open Mic And Beers At Belford Brewing Friday February 16th\, 2024
DESCRIPTION:Come out Friday February 16th at 6PM for “Belford Brewing Open Mic”.  If you would like to play or just sit back and listen\, this event is for you.  Signups start at 5:00PM and performers start at 6:00. Performances will be take place in the brewery.  Cheers!
URL:https://www.belfordbrewing.com/event/open-mic-and-beers-at-belford-brewing-friday-february-16th-2024/
ATTACH;FMTTYPE=image/png:https://www.belfordbrewing.com/wp-content/uploads/2024/02/Open-Mic-Flyer-Feb-16-2024.png
END:VEVENT
BEGIN:VEVENT
DTSTART;TZID=UTC:20240215T183000
DTEND;TZID=UTC:20240215T210000
DTSTAMP:20260424T161457
CREATED:20240208T163922Z
LAST-MODIFIED:20240208T163922Z
UID:7235-1708021800-1708030800@www.belfordbrewing.com
SUMMARY:Belford Brewing Trivia Night - The Music In Movies Edition - Thursday February 15\, 2024
DESCRIPTION:Come out Thursday February 15th at 6:30 PM for “Belford Brewing Trivia Night”. The theme for the night is “Music In Movies”.  Since it was a big hit last year lets do it again.  The night will be focused in on questions on music in movies and movies about music\, yadda\, yadda\, yadda.  You get it.  We will be going back to our original format of multiple choice\, fill in your answer and a secret top ten final round.  Should be fun!  Maybe you could win some Belford Bucks!
URL:https://www.belfordbrewing.com/event/belford-brewing-trivia-night-the-music-in-movies-edition-thursday-february-15-2024/
ATTACH;FMTTYPE=image/png:https://www.belfordbrewing.com/wp-content/uploads/2024/02/Trivia-Questions-Music-In-Movies-Edition-02152024.png
END:VEVENT
BEGIN:VEVENT
DTSTART;TZID=UTC:20240111T183000
DTEND;TZID=UTC:20240111T210000
DTSTAMP:20260424T161457
CREATED:20231229T183953Z
LAST-MODIFIED:20231229T183953Z
UID:7191-1704997800-1705006800@www.belfordbrewing.com
SUMMARY:Trivia Night - Thursday January 11th\, 2024 "General Knowledge"
DESCRIPTION:
URL:https://www.belfordbrewing.com/event/trivia-night-thursday-january-11th-2024-general-knowledge/
ATTACH;FMTTYPE=image/png:https://www.belfordbrewing.com/wp-content/uploads/2023/12/Trivia-General-Knowledge-01112024.png
END:VEVENT
BEGIN:VEVENT
DTSTART;TZID=UTC:20220113T180000
DTEND;TZID=UTC:20220113T210000
DTSTAMP:20260424T161457
CREATED:20220105T143210Z
LAST-MODIFIED:20220105T143210Z
UID:6573-1642096800-1642107600@www.belfordbrewing.com
SUMMARY:Trivia Night
DESCRIPTION:Come out to trivia night.
URL:https://www.belfordbrewing.com/event/trivia-night/
LOCATION:Belford Brewing Company\, 84 Leonardville Road\, Belford\, NJ\, 07718\, United States
CATEGORIES:On Premise
END:VEVENT
END:VCALENDAR